BEGIN:VCALENDAR
VERSION:2.0
PRODID:-//The Rotunda - ECPv6.2.3//NONSGML v1.0//EN
CALSCALE:GREGORIAN
METHOD:PUBLISH
X-WR-CALNAME:The Rotunda
X-ORIGINAL-URL:https://rotundabaltimore.com
X-WR-CALDESC:Events for The Rotunda
REFRESH-INTERVAL;VALUE=DURATION:PT1H
X-Robots-Tag:noindex
X-PUBLISHED-TTL:PT1H
BEGIN:VTIMEZONE
TZID:America/New_York
BEGIN:DAYLIGHT
TZOFFSETFROM:-0500
TZOFFSETTO:-0400
TZNAME:EDT
DTSTART:20260308T070000
END:DAYLIGHT
BEGIN:STANDARD
TZOFFSETFROM:-0400
TZOFFSETTO:-0500
TZNAME:EST
DTSTART:20261101T060000
END:STANDARD
END:VTIMEZONE
BEGIN:VEVENT
DTSTART;TZID=America/New_York:20260710T180000
DTEND;TZID=America/New_York:20260710T210000
DTSTAMP:20260425T104746
CREATED:20260424T150750Z
LAST-MODIFIED:20260424T155015Z
UID:10001552-1783706400-1783717200@rotundabaltimore.com
SUMMARY:Rotunda Rocks - Ohms Band
DESCRIPTION:
URL:https://rotundabaltimore.com/event/rotunda-ohmsband/
CATEGORIES:Entertainment,Family Friendly,Food and Drink,Games,Music
ATTACH;FMTTYPE=image/png:https://rotundabaltimore.com/wp-content/uploads/2026/04/Rotunda-Rocks-.png
END:VEVENT
BEGIN:VEVENT
DTSTART;TZID=America/New_York:20260814T180000
DTEND;TZID=America/New_York:20260814T210000
DTSTAMP:20260425T104746
CREATED:20260424T142745Z
LAST-MODIFIED:20260424T142812Z
UID:10001551-1786730400-1786741200@rotundabaltimore.com
SUMMARY:Rotunda Rocks - Gaelic Mishap
DESCRIPTION:
URL:https://rotundabaltimore.com/event/rotunda-rocks-gaelic-mishap-2/
CATEGORIES:Entertainment,Family Friendly,Food and Drink,Games,Music
ATTACH;FMTTYPE=image/jpeg:https://rotundabaltimore.com/wp-content/uploads/2024/04/Gaelic-Mishap-2.jpg
END:VEVENT
BEGIN:VEVENT
DTSTART;TZID=America/New_York:20260822T110000
DTEND;TZID=America/New_York:20260822T150000
DTSTAMP:20260425T104746
CREATED:20260424T141655Z
LAST-MODIFIED:20260424T155816Z
UID:10001549-1787396400-1787410800@rotundabaltimore.com
SUMMARY:National Dog Day Festival 2026 at The Rotunda
DESCRIPTION:
URL:https://rotundabaltimore.com/event/national-dog-day-festival-2026-at-the-rotunda/
CATEGORIES:Entertainment,Family Friendly,Food and Drink
ATTACH;FMTTYPE=image/png:https://rotundabaltimore.com/wp-content/uploads/2026/04/21.png
END:VEVENT
BEGIN:VEVENT
DTSTART;TZID=America/New_York:20260911T180000
DTEND;TZID=America/New_York:20260911T210000
DTSTAMP:20260425T104746
CREATED:20250327T211657Z
LAST-MODIFIED:20260424T165652Z
UID:10001504-1789149600-1789160400@rotundabaltimore.com
SUMMARY:Rotunda Rocks - Strykers Posse
DESCRIPTION:
URL:https://rotundabaltimore.com/event/strykers-posse/
CATEGORIES:Entertainment,Family Friendly,Food and Drink,Games,Music
ATTACH;FMTTYPE=image/jpeg:https://rotundabaltimore.com/wp-content/uploads/2024/04/Strykers-Posse-2-e1777046438275.jpg
END:VEVENT
END:VCALENDAR